Workbook

Sheet 쉼터
A1: 동별 푸른 마을 쉼터 현황
F2: 2019년 1월 1일 기준
A3: 번호 | B3: 위치 | C3: 쉼터명 | D3: 면적 | E3: 조합놀이대 | F3: 사업비 | G3: 사업내용 | H3: 사업기간 | I3: 도시정비사업 포함여부
B4: 총계 | C4: 69개소 | D4: =D5+D11+D14+D24+D31+D33+D40+D44+D51+D58+D63+D67+D73+D79+D82+D89+D92 -> 27061.3 | E4: 10개소 | F4: =F5+F11+F14+F24+F31+F33+F40+F44+F51+F58+F63+F67+F73+F79+F82+F89+F92 -> 10477175868
A5: 계 | B5: 숭의1.3동 | C5: 5개소 | D5: =SUM(D6:D10) -> 658.4 | F5: =SUM(F6:F10) -> 597512390
A6: 1 | B6: 숭의1동 162-79 | C6: 효자쉼터 | D6: 118.3 | F6: =[1]쉼터현황!E72 -> 139943240 | G6: 청단풍 외5종 24주, 사철나무 외2종 800주 온몸역기올리기, 표지석, 솟대, 우드포장, 마사토포장, 쉼터등 | H6: `05. 10. 24∼ 11.22 | I6: -
A7: 2 | B7: 숭의1동 431-72 | C7: 장수쉼터 | D7: =[1]쉼터현황!D76 -> 149.8 | F7: =[1]쉼터현황!E76 -> 182008400 | G7: =[1]쉼터현황!I76 -> 전나무 외 5종 13주, 회양목 외 4종 88주, 정자, 고무칩포장 | H7: 06. 04.01 ~ 05.01 | I7: 숭의6구역
A8: 3 | B8: 숭의3동109-308 | C8: 쇠뿔고개쉼터 | D8: 73 | F8: 54971000 | G8: 소나무 외6종 410주, 사각의자 외2종 | H8: `01.7.20~9.17 | I8: 전도관구역
A9: 4 | B9: 숭의3동139-14 | C9: 샘쉼터 | D9: 153.1 | F9: 85336750 | G9: 느티나무 외6종 555주, 파고라 외9종 | H9: `01.7.20~9.17 | I9: 전도관구역
A10: 5 | B10: 숭의3동84-6 | C10: 새미래쉼터 | D10: 164.2 | F10: 135253000 | G10: 회화나무 외9종 712주, 조합놀이대 외9종 | H10: `01.7.20~9.17 | I10: -
A11: 계 | B11: 숭의2동 | C11: 2개소 | D11: =SUM(D12:D13) -> 292 | F11: =SUM(F12:F13) -> 810246470
A12: 1 | B12: 숭의2동285-64 | C12: 주인육각쉼터 | D12: 55 | F12: 13221780 | G12: 느티나무외2종11주,황매화외2종630주,맥문동110본 등의자외3종, 잔디블럭외2종포장 | H12: `03.10.21∼ 11.19 | I12: 숭의2구역
A13: 2 | B13: 숭의2동 168-10 | C13: 장안마을쉼터 | D13: 237 | F13: 797024690 | G13: 스트로브잣 외 6종 46주, 사철나무외 6종 | H13: `16.10.6~17.8.14
A14: 계 | B14: 숭의4동 | C14: 8개소 | D14: =SUM(D15:D23) -> 1325 | E14: 1개소 | F14: =SUM(F15:F23) -> 1002668700
A15: 1 | B15: 숭의4동19-88 | C15: 으뜸골쉼터 | D15: 80 | F15: 21943000 | G15: 느티나무외6종78,정자외3종7 | H15: `00.6.9~7.18 | I15: -
A16: 2 | B16: 숭의4동248-92 | C16: 주인공원쉼터 | D16: 251 | E16: 설치 (2015.02.09) | F16: 265180000 | G16: 느티나무외12종168,정자외8종20 | H16: `00.6.9~7.18 | I16: -
A17: 3 | B17: 숭의4동4-30 | C17: 샛길쉼터 | D17: 74 | F17: 18602790 | G17: 느티나무외2종15주,자산홍외1종790주, 맥문동외1종330본,등의자외3종,잔디블럭외3종포장 | H17: `03.10.22∼ 11.20 | I17: -
A18: 4 | B18: 숭의4동449-3 | C18: 지누골쉼터 | D18: 75 | F18: 46116000 | G18: 느티나무 외1종 62주, 이층정자 외2종 | H18: `01.8.3~9.17 | I18: 숭의7구역
B19: 숭의4동8-66 | D19: 86 | F19: 52400020 | G19: 소나무외1종 10주, 사철나무 외3종 840주 앉음벽 외2종, 쉼터등2개, 정자등2개 | H19: `02. 10.1∼ 11.9
A20: 5 | B20: 숭의4동5-19 | C20: 신성쉼터 | D20: 55 | F20: 3592000 | G20: 소나무(둥근형)외 1종 18주, 매자나무외3종 555주 | H20: `04.5.14∼ 6.22 | I20: -
A21: 6 | B21: 숭의4동 8-23 | C21: 수봉영산마을쉼터 | D21: 161 | F21: 92764300 | H21: `15.10.28~11.21
A22: 7 | B22: 숭의4동76-20 | C22: 여의골쉼터 | D22: 110 | F22: 21083000 | G22: 홍단풍 외2종 173주, 평의자 외6종 | H22: `01.8.3~9.17 | I22: -
A23: 8 | B23: 숭의4동 72-24 | C23: 여의안길쉼터 | D23: =[1]쉼터현황!D77 -> 433 | F23: =[1]쉼터현황!E77 -> 480987590 | G23: =[1]쉼터현황!I77 -> 해송외 7종 25주, 복자기 외 5종 1232주 | H23: 06.11.2~12.2 | I23: -
A24: 계 | B24: 용현1.4동 | C24: 6개소 | D24: =SUM(D25:D30) -> 1122.6 | E24: 1개소 | F24: =SUM(F25:F30) -> 250716550
A25: 1 | B25: 용현1동 146-201 | C25: 독정골쉼터 | D25: 155 | F25: 33703000 | G25: 소나무외4종29주, 사철나무외5종943주 사각파고라외6종,점토벽돌외1종 | H25: `03.4.18∼5.17 | I25: -
A26: 2 | B26: 용현1동 1-53번지 | C26: 아리쉼터 | D26: 63 | F26: 12810600 | G26: 느티나무외 1종 6주, 개쉬땅나무외 3종 410주 통돌의자외 3종, 고무블럭외 1종 포장 | H26: `04.6.3∼ 7.2 | I26: 용현5구역
A27: 3 | B27: 용현1동136-3일원 | C27: 우마쉼터 | D27: 98 | F27: 32824000 | G27: 소나무외5종47주,백철쭉외4종1,320주,맥문동480본 사각파고라외4종, 잔디블럭외3종포장 | H27: `03.10.29∼ 11.27 | I27: -
A28: 4 | B28: 용현1동 1-158번지 | C28: 푸른마을쉼터 | D28: 94 | F28: 23793000 | G28: 느티나무외 8종 32주, 백철쭉외 4종 270주 표지석, 통나무의자, 석등, 그린블록포장 | H28: `05.5.18∼ 6.16 | I28: 용현5구역
A29: 5 | B29: 용현1동 454-53번지 | C29: 수봉오름쉼터 | D29: 350 | F29: 87654950 | G29: 이팝나무외 8종 91주, 개나리외 8종 2140주 통나무의자, 석등자, 그린블록포장, 매쉬휀스 | H29: `05. 5.30 ∼ 7.8
A30: 6 | B30: 용현4동46-1 | C30: 용정쉼터 | D30: 362.6 | E30: 설치 (2015.02.09) | F30: 59931000 | G30: 느티나무 외10종 1,478주, 조합놀이대 외10종 | H30: `01.7.23~9.5 | I30: 정석항공고교주변구역
A31: 계 | B31: 용현2동 | C31: 1개소 | D31: =D32 -> 560 | F31: =F32 -> 30030000
A32: 1 | B32: 용현2동536철로변 | C32: 용마루쉼터 | D32: 560 | F32: 30030000 | G32: 느티나무외4종56주, 사철나무외1종537주 야외탁자외5종, 디딤돌놓기외1종 | H32: `03.5.13∼6.11 | I32: 용마루구역
A33: 계 | B33: 용현3동 | C33: 6개소 | D33: =SUM(D34:D39) -> 6394.4 | E33: 2개소 | F33: =SUM(F34:F39) -> 2381387630
A34: 1 | B34: 용현3동 147-237일원 | C34: 한진쉼터 | D34: 61 | F34: 12682000 | G34: 복자기외 3종 35주, 영산홍외 1종 3,200주 평의자외 1종, 고무매트외3종 포장 | H34: `04.5.14∼ 6.22 | I34: 용현4구역
A35: 2 | B35: 용현3동147-46 | C35: 비룡안길쉼터 | D35: 113 | F35: 22608800 | G35: 느티나무외4종15주, 회양목외2종480주, 맥문동470본, 등의자외5종, 잔디블럭외1종포장 | H35: `03.6.20 ~ 9.25 | I35: 용현4구역
A36: 3 | B36: 용현3동159-2 | C36: 비룡쉼터 | D36: 4500 | E36: 설치 (2015.02.09) | F36: 450810000 | G36: 소나무외17종4,365,정자2,파고라2,농구대1, 스탠드1,게이트볼장,조합놀이대1 | H36: `98.9.24∼12.3 | I36: 용현1구역
A37: 4 | B37: 용현3동 492-272 | C37: 번영샛길쉼터 | D37: 210.4 | F37: =[1]쉼터현황!E75 -> 148739960 | G37: =[1]쉼터현황!I75 -> 느티나무 외2종11주, 사철나무 외4종 430주, 어깨근육풀기, 점토벽돌포장, 마사포포장, 우수관, 집수정 등 | H37: `05. 11. 28∼ 12.17 | I37: -
A38: 5 | B38: 용현3동 453-182 | C38: 용현시장샛길쉼터 | D38: =[1]쉼터현황!D78 -> 85.1 | F38: =[1]쉼터현황!E78 -> 120016000 | G38: =[1]쉼터현황!I78 -> 느티나무외 3종 36주, 수수꽃다리 외 2종 510주, 운동기구 2점 | H38: 05.11.28~12.17 | I38: -
A39: 6 | B39: 용현3동 492-280번지 일원 | C39: 쌍우물쉼터 | D39: 1424.9 | E39: 설치 (2015.02.09) | F39: 1626530870 | H39: 07.11. 5 ~ 08. 05. 10. | I39: -
A40: 계 | B40: 학익1동 | C40: 3개소 | D40: =SUM(D41:D43) -> 1344.5 | F40: =SUM(F41:F43) -> 175098000
A41: 1 | B41: 학익1동 684-10 | C41: 연경안길쉼터 | D41: 294.5 | F41: 33665000 | G41: 주목 8주, 황맹화외 1종 4,010주 평의자 2개, 고무매트외 2종 포장 | H41: `04.5.14∼ 6.22 | I41: -
A42: 2 | B42: 학익1동 486-1 | C42: 장미쉼터 | D42: 750 | F42: 141433000 | H42: `09.03.09.∼ 4.17. | I42: 학익장미아파트구역
A43: 3 | B43: 학익1동 329-44 외 5필지 | C43: 회화나무쉼터 | D43: 300 | H43: `16.08.03.∼ 09.01
A44: 계 | B44: 학익2동 | C44: 6개소 | D44: =SUM(D45:D50) -> 1219.3 | E44: 1개소 | F44: =SUM(F45:F50) -> 207849520
A45: 1 | B45: 학익2동 312-194 | C45: 벽돌막쉼터 | D45: 211 | F45: 74296000 | G45: 조형소나무외5종62주, 영산홍외2종1,082주 쉘터외7종, 점토벽돌포장외1종 | H45: 03.4.4∼5.23 | I45: -
A46: 2 | B46: 학익2동306-134 | C46: 재건쉼터 | D46: 80 | F46: 19353000 | G46: 주목외3종16주, 회양목외2종660주,맥문동360본 등의자외2종, 잔디블럭외2종포장 | H46: `03.7.10∼ 8.23 | I46: -
A47: 3 | B47: 학익2동318-1 | C47: 학본쉼터 | D47: 150 | F47: 48242000 | G47: 느티나무외5종21주,사철나무외3종1,000주, 맥문동600본,사각정자외9종, 점토블럭외4종포장 | H47: `03.7.10∼ 8.23 | I47: -
A48: 4 | B48: 학익2동329-23 | C48: 사랑의쉼터 | D48: 300 | F48: 31019000 | G48: 느티나무외1종 6주, 사철나무외5종 1,975주 평의자외 6종설치, 고무매트외 3종 포장 | H48: `04.5.11∼ 6.18 | I48: 학익3구역
A49: 5 | B49: 학익2동36-61 | C49: 인주쉼터 | D49: 158 | F49: 34939520 | G49: 느티나무외6종608, 정자1,등의자4 | H49: `99.4.26∼5.20 | I49: -
A50: 6 | B50: 학익2동 312-115번지 일원 | C50: 학골쉼터 | D50: 320.3 | E50: 설치 (2016.06.28) | H50: `16.2.5∼6.12
A51: 계 | B51: 도화1동 | C51: 5개소 | D51: =SUM(D52:D57) -> 889 | F51: =SUM(F52:F57) -> 324158740
A52: 1 | B52: 도화1동419-3 | C52: 동원쉼터 | D52: 350 | F52: 46544000 | G52: 팽나무외11종216,정자외9종13 | H52: `00.6.17~8.5 | I52: 도화거점구역
A53: 2 | B53: 도화1동530-1 | C53: 작골쉼터 | D53: 155 | F53: 113328140 | G53: 느티나무외4종11주,영산홍외3종1,363주,인동80본 사각파고라외5종, 잔디블럭외3종 포장 | H53: `03.10.31∼ 11.29 | I53: -
A54: 3 | B54: 도화1동597-197 | C54: 청대골쉼터 | D54: 28 | F54: 31732000 | G54: 2층정자형파고라외2종5 | H54: `00.6.17~8.5 | I54: -
B55: 도화1동597-86 | D55: 101 | F55: 69133260 | G55: 느티나무 외5종 138주, 조합놀이대 외7종 | H55: `01.7.11~8.29
A56: 4 | B56: 도화1동624-281외1개소 | C56: 봉동쉼터 | D56: 165 | F56: 45200340 | G56: 소나무외6종35주,덩굴장미외6종2,390주, 벌개미취외2종760본, 등의자외5종,잔디블럭외4종 | H56: `03.10.29∼ 11.27 | I56: -
A57: 5 | B57: 도화1동538-1 | C57: 천만년쉼터 | D57: 90 | F57: 18221000 | G57: 느티나무외 1종 8주, 영산홍외 3종 880주 통돌의자, 점토블럭포장 | H57: `04.11.11∼ 12.5 | I57: -
A58: 계 | B58: 도화2.3동 | C58: 4개소 | D58: =SUM(D59:D62) -> 1483.7 | E58: 1개소 | F58: =SUM(F59:F61) -> 113609275
A59: 1 | B59: 도화2동119-64 | C59: 애향쉼터 | D59: 579 | F59: 42918000 | G59: 목련외8종1,212, 정자1, 평상2, 등의자10 | H59: `98.4.27∼6.25 | I59: 도화역북측구역
A60: 2 | B60: 도화2동91-17 | C60: 철로변쉼터 | D60: 213 | F60: 19450000 | G60: 느티나무 외7종1,296본 | H60: `97.4.30 ∼5.19 | I60: -
A61: 3 | B61: 도화2동98-20 | C61: 못안쉼터 | D61: 576 | E61: 설치 (2015.02.09) | F61: 51241275 | G61: 해송외4종322,정자1,등의자10,조합놀이대1 | H61: `98.5.8 ∼6.1 | I61: -
A62: 4 | B62: 도화2동 946 | C62: 신창쉼터 | D62: 115.7 | F62: 211000000 | G62: 운동시설2개, 벤치2개 | H62: `17.3.8 ∼12.12
A63: 계 | B63: 주안1동 | C63: 3개소 | D63: =SUM(D64:D66) -> 3787.7 | E63: 1개소 | F63: =SUM(F64:F66) -> 1559269000
A64: 1 | B64: 주안1동 94-15, 16 | C64: 주안중앙2로길쉼터 | D64: 291 | E64: 설치 (2015.02.09) | F64: 119440000 | H64: `08.11.04.∼12.09 | I64: -
A65: 2 | B65: 주안1동190-2 | C65: 옛시민회관쉼터 | D65: 3160.7 | F65: 1400000000 | G65: 느티나무외26종16,349주안개분수외9종 | H65: `00.7.29∼10.27 | I65: -
A66: 3 | B66: 주안1동236-1(395-1) | C66: 화목쉼터 | D66: 336 | F66: 39829000 | G66: 복자기외1종29주, 명자나무외3종1,640주 사각파고라외8종,고무블럭외1종,쉼터등3 | H66: `03.4.4∼5.23 | I66: -
A67: 계 | B67: 주안2동 | C67: 4개소 | D67: =SUM(D68:D72) -> 3261.1 | F67: =SUM(F68:F71) -> 708062403
A68: 1 | B68: 주안2동640-12 | C68: 젯말쉼터 | D68: 340 | F68: 96361853 | G68: 느티나무외5종989, 등의자4, 공원등4 | H68: `99.6.11∼9.10 | I68: 주안6구역
A69: 2 | B69: 주안2동 517-27 | C69: 사랑말쉼터 | D69: =[1]쉼터현황!D73 -> 115 | F69: =[1]쉼터현황!E73 -> 140577000 | G69: =[1]쉼터현황!I73 -> 왕벚나무 외4종 38주, 사철나무 외3종 635주, 평떼 87㎡, 온몸역기올리기, 어깨근육풀기, 표지석, 고무칩포장, 메시휀스, 통나무의자, 쉼터등 | H69: `05. 10. 31∼ 11.29 | I69: 주안2.4구역
A70: 3 | B70: 주안2동 620-32,33 | C70: 양지께쉼터 | D70: =[1]쉼터현황!D74 -> 496.1 | F70: =[1]쉼터현황!E74 -> 421425550 | G70: =[1]쉼터현황!I74 -> 팽나무 외6종 120주, 백철쭉 외1종 600주, 하늘걷기 외2종, 표지석, 마사토포장, 솟대, 우드포장, 보강토옹벽, 메쉬휀스, 통돌의자 | H70: `05. 11. 02∼ 12.01 | I70: 주안8구역
A71: 4 | B71: 주안2동 513-2 | C71: 남주길쉼터 | D71: 697 | F71: 49698000 | G71: 13.10.28~12.4 | H71: 13.10.28~12.4 | I71: 주안2.4구역
A72: 5 | B72: 주안2동659-2 | C72: 수봉마을 쉼터 | D72: 1613 | E72: 설치 (2010) | F72: 261139000 | G72: 영산홍외2종875, 소나무외7종 229, 조합놀이대1 | H72: `97.7.7∼`98.1.2 | I72: 2010.04.30
A73: 계 | B73: 주안3동 | C73: 4개소 | D73: =SUM(D74:D78) -> 1634 | E73: 1개소 | F73: =SUM(F74:F78) -> 1205456240
A74: 1 | B74: 주안3동806-6 | C74: 사미마을쉼터 | D74: 281 | F74: 60175000 | G74: 소나무외11종1,098정자외7종15 | H74: `00.6.15~8.19
A75: 2 | B75: 주안3동859-15 | C75: 한마음쉼터 | D75: 67 | F75: 16896000 | G75: 소나무외3종11주,백철쭉외2종500주,맥문동외1종400본 등의자외1종, 잔디블럭외2종포장 | H75: `03.10.20∼ 11.17 | I75: 주안3구역
A76: 3 | B76: 주안3동867-168 | C76: 돌산쉼터 | D76: 290 | E76: 설치 (2015.02.09) | F76: 313012000 | G76: 소나무외7종190주, 영산홍외2종 586주 사각파고라외14종,점토벽돌외5종,쉼터등2 | H76: `03. 4.12 ∼ 5.31 | I76: 주안3구역
D77: 767 | F77: 781374760 | G77: 왕벚나무외 9종 629, 영산홍외 9종 2,664주 플랜트, 잠자리그네, 시이소, 앉음벽, 잔디블록포장 | H77: `05. 4.18 ∼ 5.27 | I77: 주안3구역
A78: 4 | B78: 주안3동 869-12,13 | C78: 신기길쉼터 | D78: 229 | F78: 33998480 | H78: `08. 4.18 ∼ 5.28
A79: 계 | B79: 주안5동 | C79: 2개소 | D79: =SUM(D80:D81) -> 552.4 | E79: 1개소 | F79: =SUM(F80:F81) -> 168149550 | I79: 연학초교북측구역
A80: 1 | B80: 주안5동10-206 | C80: 북인정쉼터 | D80: 230 | E80: 설치 (2015.05.12) | F80: 168149550 | G80: 느티나무 외8종 582주, 파고라 외7종 | H80: `01.7.11~8.29 | I80: 주안7구역
A81: 2 | B81: 주안5동 8-65 | C81: 염전골쉼터 | D81: 322.4 | H81: 15.7.7 ~ 16.3.18
A82: 계 | B82: 주안7동 | C82: 5개소 | D82: =SUM(D83:D88) -> 1855.3 | E82: 1개소 | F82: =SUM(F83:F88) -> 804308400 | I82: 도화거점구역
A83: 1 | B83: 주안7동 1243 | C83: 선홍쉼터 | D83: 287 | E83: 설치 (2015.02.09) | F83: 62759000 | G83: 느티나무외3종26주, 영산홍외1종470주 등의자외12종, 점토블럭외4종,쉼터등2개 | H83: `03.4.12∼5.31
D84: 90 | F84: 21104000 | G84: 느티나무외 1종 14주, 영산홍외 2종 820주 조합놀이대, 점토블럭포장 | H84: `04.4.11∼12.5 | I84: -
A85: 2 | B85: 주안7동1286-5 | C85: 승학쉼터 | D85: 46 | F85: 24970000 | G85: 느티나무외4종16주,회양목외3종460주,맥문동340본 등의자외2종, 점토블럭포장외2종 | H85: `03.7.7∼ 7.31
A86: 3 | B86: 주안7동 1342-163일원 | C86: 주안7동 녹색마을쉼터 | D86: 992 | F86: 488119770 | H86: `14.11.25∼'15.07,22
A87: 4 | B87: 주안7동1344-67 | C87: 신기마을쉼터 | D87: 137 | F87: 104448000 | G87: 느티나무 외7종635주, 자연석판석포장외11종 | H87: `01.9.25∼11.27 | I87: -
A88: 5 | B88: 주안7동 1457-5 | C88: 신기사거리쉼터 | D88: 303.3 | F88: 102907630 | H88: `08.04.21∼05.31 | I88: -
A89: 계 | B89: 주안8동 | C89: 2개소 | D89: =SUM(D90:D91) -> 537.9 | F89: =SUM(F90:F91) -> 97685000 | I89: -
A90: 1 | B90: 주안8동1520-29 | C90: 승학쉼터 | D90: 131 | F90: 97685000 | G90: 백목련 외9종 376주, 원형의자 외2종 | H90: `01.7.13~8.26
A91: 2 | B91: 주안8동 1626 | C91: 노루목쉼터 | D91: 406.9 | F91: 무상귀속 건 | H91: 12년 관리이관 | I91: -
A92: 계 | B92: 관교동 | C92: 2개소 | D92: =SUM(D93:D94) -> 144 | F92: =SUM(F93:F94) -> 40968000 | I92: 재산회계과
A93: 1 | B93: 관교동321-27 | C93: 도란쉼터 | D93: 94 | F93: 17079000 | G93: 느티나무 외7종 552주, 원형의자 외3종 | H93: `01.7.13~8.26
A94: 2 | B94: 관교동319-2 | C94: 인정쉼터 | D94: 50 | F94: 23889000 | G94: 느티나무 외7종 552주, 원형의자 외3종 | H94: `08.11.4~12.9 | I94: -
I95: -
