Workbook

Sheet 쉼터
A1: 동별 푸른 마을 쉼터 현황
F2: 2019년 1월 1일 기준
A3: 번호 | B3: 위치 | C3: 쉼터명 | D3: 면적 | E3: 조합놀이대 | F3: 사업비 | G3: 사업내용 | H3: 사업기간 | I3: 도시정비사업 포함여부
B4: 총계 | C4: 69개소 | D4: =D5+D11+D14+D24+D31+D33+D40+D44+D51+D58+D63+D67+D73+D79+D82+D89+D92 -> 27061.3 | E4: 10개소 | F4: =F5+F11+F14+F24+F31+F33+F40+F44+F51+F58+F63+F67+F73+F79+F82+F89+F92 -> 10477175868
A5: 계 | B5: 숭의1.3동 | C5: 5개소 | D5: =SUM(D6:D10) -> 658.4 | F5: =SUM(F6:F10) -> 597512390
A6: 1 | B6: 숭의1동 162-79 | C6: 효자쉼터 | D6: 118.3 | F6: =[1]쉼터현황!E72 -> 139943240 | G6: 청단풍 외5종 24주, 사철나무 외2종 800주 온몸역기올리기, 표지석, 솟대, 우드포장, 마사토포장, 쉼터등 | H6: `05. 10. 24∼ 11.22 | I6: -
A7: 2 | B7: 숭의1동 431-72 | C7: 장수쉼터 | D7: =[1]쉼터현황!D76 -> 149.8 | F7: =[1]쉼터현황!E76 -> 182008400 | G7: =[1]쉼터현황!I76 -> 전나무 외 5종 13주, 회양목 외 4종 88주, 정자, 고무칩포장 | H7: 06. 04.01 ~ 05.01 | I7: 숭의6구역
A8: 3 | B8: 숭의3동109-308 | C8: 쇠뿔고개쉼터 | D8: 73 | F8: 54971000 | G8: 소나무 외6종 410주, 사각의자 외2종 | H8: `01.7.20~9.17 | I8: 전도관구역
A9: 4 | B9: 숭의3동139-14 | C9: 샘쉼터 | D9: 153.1 | F9: 85336750 | G9: 느티나무 외6종 555주, 파고라 외9종 | H9: `01.7.20~9.17 | I9: 전도관구역
A10: 5 | B10: 숭의3동84-6 | C10: 새미래쉼터 | D10: 164.2 | F10: 135253000 | G10: 회화나무 외9종 712주, 조합놀이대 외9종 | H10: `01.7.20~9.17 | I10: -
A11: 계 | B11: 숭의2동 | C11: 2개소 | D11: =SUM(D12:D13) -> 292 | F11: =SUM(F12:F13) -> 810246470
A12: 1 | B12: 숭의2동285-64 | C12: 주인육각쉼터 | D12: 55 | F12: 13221780 | G12: 느티나무외2종11주,황매화외2종630주,맥문동110본 등의자외3종, 잔디블럭외2종포장 | H12: `03.10.21∼ 11.19 | I12: 숭의2구역
A13: 2 | B13: 숭의2동 168-10 | C13: 장안마을쉼터 | D13: 237 | F13: 797024690 | G13: 스트로브잣 외 6종 46주, 사철나무외 6종 | H13: `16.10.6~17.8.14
A14: 계 | B14: 숭의4동 | C14: 8개소 | D14: =SUM(D15:D23) -> 1325 | E14: 1개소 | F14: =SUM(F15:F23) -> 1002668700
A15: 1 | B15: 숭의4동19-88 | C15: 으뜸골쉼터 | D15: 80 | F15: 21943000 | G15: 느티나무외6종78,정자외3종7 | H15: `00.6.9~7.18 | I15: -
A16: 2 | B16: 숭의4동248-92 | C16: 주인공원쉼터 | D16: 251 | E16: 설치 (2015.02.09) | F16: 265180000 | G16: 느티나무외12종168,정자외8종20 | H16: `00.6.9~7.18 | I16: -
A17: 3 | B17: 숭의4동4-30 | C17: 샛길쉼터 | D17: 74 | F17: 18602790 | G17: 느티나무외2종15주,자산홍외1종790주, 맥문동외1종330본,등의자외3종,잔디블럭외3종포장 | H17: `03.10.22∼ 11.20 | I17: -
A18: 4 | B18: 숭의4동449-3 | C18: 지누골쉼터 | D18: 75 | F18: 46116000 | G18: 느티나무 외1종 62주, 이층정자 외2종 | H18: `01.8.3~9.17 | I18: 숭의7구역
B19: 숭의4동8-66 | D19: 86 | F19: 52400020 | G19: 소나무외1종 10주, 사철나무 외3종 840주 앉음벽 외2종, 쉼터등2개, 정자등2개 | H19: `02. 10.1∼ 11.9
A20: 5 | B20: 숭의4동5-19 | C20: 신성쉼터 | D20: 55 | F20: 3592000 | G20: 소나무(둥근형)외 1종 18주, 매자나무외3종 555주 | H20: `04.5.14∼ 6.22 | I20: -
A21: 6 | B21: 숭의4동 8-23 | C21: 수봉영산마을쉼터 | D21: 161 | F21: 92764300 | H21: `15.10.28~11.21
A22: 7 | B22: 숭의4동76-20 | C22: 여의골쉼터 | D22: 110 | F22: 21083000 | G22: 홍단풍 외2종 173주, 평의자 외6종 | H22: `01.8.3~9.17 | I22: -
A23: 8 | B23: 숭의4동 72-24 | C23: 여의안길쉼터 | D23: =[1]쉼터현황!D77 -> 433 | F23: =[1]쉼터현황!E77 -> 480987590 | G23: =[1]쉼터현황!I77 -> 해송외 7종 25주, 복자기 외 5종 1232주 | H23: 06.11.2~12.2 | I23: -
A24: 계 | B24: 용현1.4동 | C24: 6개소 | D24: =SUM(D25:D30) -> 1122.6 | E24: 1개소 | F24: =SUM(F25:F30) -> 250716550
A25: 1 | B25: 용현1동 146-201 | C25: 독정골쉼터 | D25: 155 | F25: 33703000 | G25: 소나무외4종29주, 사철나무외5종943주 사각파고라외6종,점토벽돌외1종 | H25: `03.4.18∼5.17 | I25: -
A26: 2 | B26: 용현1동 1-53번지 | C26: 아리쉼터 | D26: 63 | F26: 12810600 | G26: 느티나무외 1종 6주, 개쉬땅나무외 3종 410주 통돌의자외 3종, 고무블럭외 1종 포장 | H26: `04.6.3∼ 7.2 | I26: 용현5구역
A27: 3 | B27: 용현1동136-3일원 | C27: 우마쉼터 | D27: 98 | F27: 32824000 | G27: 소나무외5종47주,백철쭉외4종1,320주,맥문동480본 사각파고라외4종, 잔디블럭외3종포장 | H27: `03.10.29∼ 11.27 | I27: -
A28: 4 | B28: 용현1동 1-158번지 | C28: 푸른마을쉼터 | D28: 94 | F28: 23793000 | G28: 느티나무외 8종 32주, 백철쭉외 4종 270주 표지석, 통나무의자, 석등, 그린블록포장 | H28: `05.5.18∼ 6.16 | I28: 용현5구역
A29: 5 | B29: 용현1동 454-53번지 | C29: 수봉오름쉼터 | D29: 350 | F29: 87654950 | G29: 이팝나무외 8종 91주, 개나리외 8종 2140주 통나무의자, 석등자, 그린블록포장, 매쉬휀스 | H29: `05. 5.30 ∼ 7.8
A30: 6 | B30: 용현4동46-1 | C30: 용정쉼터 | D30: 362.6 | E30: 설치 (2015.02.09) | F30: 59931000 | G30: 느티나무 외10종 1,478주, 조합놀이대 외10종 | H30: `01.7.23~9.5 | I30: 정석항공고교주변구역
A31: 계 | B31: 용현2동 | C31: 1개소 | D31: =D32 -> 560 | F31: =F32 -> 30030000
A32: 1 | B32: 용현2동536철로변 | C32: 용마루쉼터 | D32: 560 | F32: 30030000 | G32: 느티나무외4종56주, 사철나무외1종537주 야외탁자외5종, 디딤돌놓기외1종 | H32: `03.5.13∼6.11 | I32: 용마루구역
A33: 계 | B33: 용현3동 | C33: 6개소 | D33: =SUM(D34:D39) -> 6394.4 | E33: 2개소 | F33: =SUM(F34:F39) -> 2381387630
A34: 1 | B34: 용현3동 147-237일원 | C34: 한진쉼터 | D34: 61 | F34: 12682000 | G34: 복자기외 3종 35주, 영산홍외 1종 3,200주 평의자외 1종, 고무매트외3종 포장 | H34: `04.5.14∼ 6.22 | I34: 용현4구역
A35: 2 | B35: 용현3동147-46 | C35: 비룡안길쉼터 | D35: 113 | F35: 22608800 | G35: 느티나무외4종15주, 회양목외2종480주, 맥문동470본, 등의자외5종, 잔디블럭외1종포장 | H35: `03.6.20 ~ 9.25 | I35: 용현4구역
A36: 3 | B36: 용현3동159-2 | C36: 비룡쉼터 | D36: 4500 | E36: 설치 (2015.02.09) | F36: 450810000 | G36: 소나무외17종4,365,정자2,파고라2,농구대1, 스탠드1,게이트볼장,조합놀이대1 | H36: `98.9.24∼12.3 | I36: 용현1구역
A37: 4 | B37: 용현3동 492-272 | C37: 번영샛길쉼터 | D37: 210.4 | F37: =[1]쉼터현황!E75 -> 148739960 | G37: =[1]쉼터현황!I75 -> 느티나무 외2종11주, 사철나무 외4종 430주, 어깨근육풀기, 점토벽돌포장, 마사포포장, 우수관, 집수정 등 | H37: `05. 11. 28∼ 12.17 | I37: -
A38: 5 | B38: 용현3동 453-182 | C38: 용현시장샛길쉼터 | D38: =[1]쉼터현황!D78 -> 85.1 | F38: =[1]쉼터현황!E78 -> 120016000 | G38: =[1]쉼터현황!I78 -> 느티나무외 3종 36주, 수수꽃다리 외 2종 510주, 운동기구 2점 | H38: 05.11.28~12.17 | I38: -
A39: 6 | B39: 용현3동 492-280번지 일원 | C39: 쌍우물쉼터 | D39: 1424.9 | E39: 설치 (2015.02.09) | F39: 1626530870 | H39: 07.11. 5 ~ 08. 05. 10. | I39: -
A40: 계 | B40: 학익1동 | C40: 3개소 | D40: =SUM(D41:D43) -> 1344.5 | F40: =SUM(F41:F43) -> 175098000
...
